BEGIN:VCALENDAR
VERSION:2.0
PRODID:-//Silanna UV - ECPv6.15.17//NONSGML v1.0//EN
CALSCALE:GREGORIAN
METHOD:PUBLISH
X-WR-CALNAME:Silanna UV
X-ORIGINAL-URL:https://silannauv.com
X-WR-CALDESC:Events for Silanna UV
REFRESH-INTERVAL;VALUE=DURATION:PT1H
X-Robots-Tag:noindex
X-PUBLISHED-TTL:PT1H
BEGIN:VTIMEZONE
TZID:Australia/Melbourne
BEGIN:STANDARD
TZOFFSETFROM:+1100
TZOFFSETTO:+1000
TZNAME:AEST
DTSTART:20240406T160000
END:STANDARD
BEGIN:DAYLIGHT
TZOFFSETFROM:+1000
TZOFFSETTO:+1100
TZNAME:AEDT
DTSTART:20241005T160000
END:DAYLIGHT
BEGIN:STANDARD
TZOFFSETFROM:+1100
TZOFFSETTO:+1000
TZNAME:AEST
DTSTART:20250405T160000
END:STANDARD
BEGIN:DAYLIGHT
TZOFFSETFROM:+1000
TZOFFSETTO:+1100
TZNAME:AEDT
DTSTART:20251004T160000
END:DAYLIGHT
BEGIN:STANDARD
TZOFFSETFROM:+1100
TZOFFSETTO:+1000
TZNAME:AEST
DTSTART:20260404T160000
END:STANDARD
BEGIN:DAYLIGHT
TZOFFSETFROM:+1000
TZOFFSETTO:+1100
TZNAME:AEDT
DTSTART:20261003T160000
END:DAYLIGHT
END:VTIMEZONE
BEGIN:VEVENT
DTSTART;VALUE=DATE:20250907
DTEND;VALUE=DATE:20250911
DTSTAMP:20260420T073318
CREATED:20250828T004446Z
LAST-MODIFIED:20250828T004446Z
UID:4410780-1757203200-1757548799@silannauv.com
SUMMARY:2025 IUVA World congress
DESCRIPTION:Silanna UV to Exhibit at 2025 IUVA World congress \nSilanna UV is pleased to announce its participation in the 2025 IUVA World congress exhibition in Lisbon\, Portugal from September 7th to 10th. \nSilanna UV will showcase its latest Deep UVC LED and Far UVC LED solutions. Silanna UV will showcase of its next generation Far UVC LED\, the SF2 series which exceeds even the popular SF1 series\, with UVC wavelengths down to 230nm (typical 233nm); doubled output power; and 2x improvement in temperature stability. This new SF2 UVC LED is encapsulated in a standard compact Transistor Outline (TO-can) package. \nIt is ideal for detection of nitrate (NO3) and nitrite (NO2) in water\, and detection of carbon dioxide (CO2) and Nitric Oxide (NO) in gas. These features make this far UVC LED excellent for applications such as chemical and biological analysis\, water quality monitoring\, gas sensing\, liquid chromatography\, and disinfection. \nWe are looking forward to seeing you in Portugal! \n  \nAbout IUVA \nThe IUVA was established to promote the use of Ultraviolet Technology in both public health and environmental applications. IUVA aims to be a global authority on Ultraviolet Technology by advocating for its adoption in education\, industry\, research\, and public policy.
URL:https://silannauv.com/event/2025-iuva-world-congress/
LOCATION:Lisbon Marriott Hotel\, Av. dos Combatentes 45\, 1600-042 Lisboa\, Portugal\, Portugal
ATTACH;FMTTYPE=image/png:https://silannauv.com/wp-content/uploads/2025/08/Screenshot-2025-08-28-at-10.44.28-AM.png
END:VEVENT
BEGIN:VEVENT
DTSTART;VALUE=DATE:20250910
DTEND;VALUE=DATE:20250913
DTSTAMP:20260420T073318
CREATED:20250828T004719Z
LAST-MODIFIED:20250828T004719Z
UID:4410785-1757462400-1757721599@silannauv.com
SUMMARY:CIOE 2025
DESCRIPTION:hosted in Shenzhen\, China \nhttps://www.cioe.cn/en/ \nSilanna UV to Exhibit at 2025 CIOE China International Optoelectronic EXPO (Booth: 8C14) \nSilanna UV is pleased to announce its participation in the 2025 China International Optoelectronic EXPO (CIOE) exhibition in Shenzhen\, China\, from September 10th to 12th. \nAt Booth 8C14\, Silanna UV will showcase of its next generation Far UVC LED\, the SF2 series which exceeds even the popular SF1 series\, with UVC wavelengths down to 230nm (typical 233nm); doubled output power; and 2x improvement in temperature stability. This new SF2 UVC LED is encapsulated in a standard compact Transistor Outline (TO-can) package. \nIt is ideal for detection of nitrate (NO3) and nitrite (NO2) in water\, and detection of carbon dioxide (CO2) and Nitric Oxide (NO) in gas. These features make this far UVC LED excellent for applications such as chemical and biological analysis\, water quality monitoring\, gas sensing\, liquid chromatography\, and disinfection. \nPlease join Silanna UV for this exciting event. We are looking forward to seeing you in Shenzhen\, China! \n  \nAbout CIOE \nThe 26th China International Optoelectronic Exposition (CIOE) will be held from September 10 to 12\, 2025\, at the Shenzhen World Exhibition and Convention Center. As a comprehensive exhibition covering the entire optoelectronics industry chain\, CIOE brings together over 3\,700 high-quality exhibitors from more than 30 countries and regions worldwide. Co-located with seven events covering sectors such as information and communication\, precision optics\, laser and intelligent manufacturing\, infrared\, intelligent sensing\, display technologies\, etc.\, CIOE serves as a one-stop efficient procurement platform for industry professionals to source materials\, components\, equipment\, and solutions.
URL:https://silannauv.com/event/cioe-2025/
LOCATION:Shenzhen World Exhibition and Convention Center\, Shenzhen World Exhibition and Convention Center\, China
ATTACH;FMTTYPE=image/png:https://silannauv.com/wp-content/uploads/2025/08/Screenshot-2025-08-28-at-10.45.56-AM.png
END:VEVENT
END:VCALENDAR